BEGIN:VCALENDAR
VERSION:2.0
PRODID:-//BRC//Events//DE
CALSCALE:GREGORIAN
METHOD:PUBLISH
BEGIN:VEVENT
UID:173@www.berliner-rugby-club.de
DTSTAMP:20260420T121646Z
DTSTART;VALUE=DATE:20260425
DTEND;VALUE=DATE:20260426
SUMMARY:Berlin Brandenburg Turnier
LOCATION:beim RK03
URL:https://www.berliner-rugby-club.de/events/berlin-brandenburg-turnier/
END:VEVENT
END:VCALENDAR
