BEGIN:VCALENDAR
VERSION:2.0
PRODID:-//BRC//Events//DE
CALSCALE:GREGORIAN
METHOD:PUBLISH
BEGIN:VEVENT
UID:666@www.berliner-rugby-club.de
DTSTAMP:20260420T012359Z
DTSTART:20260419T150000
DTEND:20260419T163000
SUMMARY:Oranien Raptors vs BRC II
LOCATION:Oranien Raptors\, Sportplatz am Schloss\, Parkstraße 1\, 16515 Oranienburg
URL:https://www.berliner-rugby-club.de/events/oranien-raptors-vs-brc-ii/
END:VEVENT
END:VCALENDAR
