BEGIN:VCALENDAR
VERSION:2.0
PRODID:-//BRC//Events//DE
CALSCALE:GREGORIAN
METHOD:PUBLISH
X-WR-CALNAME:Berliner Rugby Club – 1. Herren
X-WR-TIMEZONE:Europe/Berlin
BEGIN:VEVENT
UID:134@www.berliner-rugby-club.de
DTSTAMP:20260421T155456Z
DTSTART:20260328T140000
DTEND:20260328T160000
SUMMARY:BRC vs RGH
LOCATION:BRC Rugbyplatz (Heimspielstätte)\, Sachtlebenstraße 36\, 14165 Berlin
URL:https://www.berliner-rugby-club.de/events/brc-vs-rgh/
END:VEVENT
BEGIN:VEVENT
UID:135@www.berliner-rugby-club.de
DTSTAMP:20260421T155456Z
DTSTART:20260411T150000
DTEND:20260411T170000
SUMMARY:BRC vs SCN
LOCATION:BRC Rugbyplatz (Heimspielstätte)\, Sachtlebenstraße 36\, 14165 Berlin
URL:https://www.berliner-rugby-club.de/events/brc-vs-scn/
END:VEVENT
BEGIN:VEVENT
UID:136@www.berliner-rugby-club.de
DTSTAMP:20260421T155456Z
DTSTART:20260418T150000
DTEND:20260418T163000
SUMMARY:Hannover 78 vs BRC
LOCATION:Hannover 78\, Ferdinand-Wilhelm-Fricke-Weg\, 30169 Hannover
URL:https://www.berliner-rugby-club.de/events/hannover-vs-brc/
END:VEVENT
BEGIN:VEVENT
UID:137@www.berliner-rugby-club.de
DTSTAMP:20260421T155456Z
DTSTART:20260425T150000
DTEND:20260425T170000
SUMMARY:BRC vs RC Luxemburg
LOCATION:BRC Rugbyplatz (Heimspielstätte)\, Sachtlebenstraße 36\, 14165 Berlin
URL:https://www.berliner-rugby-club.de/events/brc-vs-rc-luxemburg/
END:VEVENT
BEGIN:VEVENT
UID:138@www.berliner-rugby-club.de
DTSTAMP:20260421T155456Z
DTSTART:20260509T150000
DTEND:20260509T163000
SUMMARY:SC 1880 Frankfurt vs BRC
LOCATION:SC Frankfurt 1880\, Feldgerichtstraße 29\, 60320 Frankfurt am Main
URL:https://www.berliner-rugby-club.de/events/frankfurt-1880-vs-brc/
END:VEVENT
BEGIN:VEVENT
UID:139@www.berliner-rugby-club.de
DTSTAMP:20260421T155456Z
DTSTART:20260516T150000
DTEND:20260516T170000
SUMMARY:BRC vs HRK
LOCATION:BRC Rugbyplatz (Heimspielstätte)\, Sachtlebenstraße 36\, 14165 Berlin
URL:https://www.berliner-rugby-club.de/events/brc-vs-hrk/
END:VEVENT
BEGIN:VEVENT
UID:140@www.berliner-rugby-club.de
DTSTAMP:20260421T155456Z
DTSTART:20260523T150000
DTEND:20260523T163000
SUMMARY:Germania List vs BRC
LOCATION:Germania List\, Schneckenburgerstraße 22 G\, 30177 Hannover
URL:https://www.berliner-rugby-club.de/events/germania-list-vs-brc/
END:VEVENT
BEGIN:VEVENT
UID:568@www.berliner-rugby-club.de
DTSTAMP:20260421T155456Z
DTSTART:20260627T100000
DTEND:20260627T173000
SUMMARY:Die Finals (7s DM) Qualifikation
DESCRIPTION:Qualifikationsturnier für 'Die Finals' in Hannover (23.-27.07.)\, das Endturnier um die Deutsche 7s Meisterschaft.
LOCATION:RK03\, Hansastraße 190\, 13088 Berlin
URL:https://www.berliner-rugby-club.de/events/die-finals-7s-dm-qualifikation/
END:VEVENT
BEGIN:VEVENT
UID:186@www.berliner-rugby-club.de
DTSTAMP:20260421T155456Z
DTSTART;VALUE=DATE:20260829
DTEND;VALUE=DATE:20260830
SUMMARY:100 Jahre BRC &#8211\; Unser Sommerfest
LOCATION:BRC Rugbyplatz (Heimspielstätte)\, Sachtlebenstraße 36\, 14165 Berlin
URL:https://www.berliner-rugby-club.de/events/100-jahre-brc-unser-sommerfest/
END:VEVENT
END:VCALENDAR
