BEGIN:VCALENDAR
VERSION:2.0
PRODID:-//BRC//Events//DE
CALSCALE:GREGORIAN
METHOD:PUBLISH
X-WR-CALNAME:Berliner Rugby Club – 2. Herren
X-WR-TIMEZONE:Europe/Berlin
BEGIN:VEVENT
UID:664@www.berliner-rugby-club.de
DTSTAMP:20260421T135134Z
DTSTART:20260322T140000
DTEND:20260322T153000
SUMMARY:[ABGESAGT] SG Halle/Leipzig vs BRC II
URL:https://www.berliner-rugby-club.de/events/sg-halle-leipzig-vs-brc-ii/
END:VEVENT
BEGIN:VEVENT
UID:665@www.berliner-rugby-club.de
DTSTAMP:20260421T135134Z
DTSTART:20260411T130000
DTEND:20260411T143000
SUMMARY:BRC II vs SG Jena/Erfurt
LOCATION:BRC\, Sachtlebenstraße 36\, 14165 Berlin
URL:https://www.berliner-rugby-club.de/events/brc-ii-vs-sg-jena-erfurt/
END:VEVENT
BEGIN:VEVENT
UID:666@www.berliner-rugby-club.de
DTSTAMP:20260421T135134Z
DTSTART:20260419T150000
DTEND:20260419T163000
SUMMARY:Oranien Raptors vs BRC II
LOCATION:Oranien Raptors\, Sportplatz am Schloss\, Parkstraße 1\, 16515 Oranienburg
URL:https://www.berliner-rugby-club.de/events/oranien-raptors-vs-brc-ii/
END:VEVENT
BEGIN:VEVENT
UID:667@www.berliner-rugby-club.de
DTSTAMP:20260421T135134Z
DTSTART:20260426T150000
DTEND:20260426T163000
SUMMARY:SG Oberhavel vs BRC II
LOCATION:Rugby Stahl Hennigsdorf\, Berliner Str.\, 16761 Hennigsdorf
URL:https://www.berliner-rugby-club.de/events/sg-oberhavel-vs-brc-ii/
END:VEVENT
BEGIN:VEVENT
UID:186@www.berliner-rugby-club.de
DTSTAMP:20260421T135134Z
DTSTART;VALUE=DATE:20260829
DTEND;VALUE=DATE:20260830
SUMMARY:100 Jahre BRC &#8211\; Unser Sommerfest
LOCATION:BRC Rugbyplatz (Heimspielstätte)\, Sachtlebenstraße 36\, 14165 Berlin
URL:https://www.berliner-rugby-club.de/events/100-jahre-brc-unser-sommerfest/
END:VEVENT
END:VCALENDAR
