BEGIN:VCALENDAR
VERSION:2.0
PRODID:-//BRC//Events//DE
CALSCALE:GREGORIAN
METHOD:PUBLISH
X-WR-CALNAME:Berliner Rugby Club – BRC
X-WR-TIMEZONE:Europe/Berlin
BEGIN:VEVENT
UID:186@www.berliner-rugby-club.de
DTSTAMP:20260421T135220Z
DTSTART;VALUE=DATE:20260829
DTEND;VALUE=DATE:20260830
SUMMARY:100 Jahre BRC &#8211\; Unser Sommerfest
LOCATION:BRC Rugbyplatz (Heimspielstätte)\, Sachtlebenstraße 36\, 14165 Berlin
URL:https://www.berliner-rugby-club.de/events/100-jahre-brc-unser-sommerfest/
END:VEVENT
BEGIN:VEVENT
UID:185@www.berliner-rugby-club.de
DTSTAMP:20260421T135220Z
DTSTART;VALUE=DATE:20261003
DTEND;VALUE=DATE:20261005
SUMMARY:Fritz Feyerherm Turnier 2026
DESCRIPTION:13. Gedenkturnier zu Ehren unseres langjährigen Vereinspräsidenten Fritz Feyerherm
LOCATION:Jungfernheide
URL:https://www.berliner-rugby-club.de/events/fritz-feyerherm-turnier-2026/
END:VEVENT
END:VCALENDAR
