BEGIN:VCALENDAR
VERSION:2.0
PRODID:-//BRC//Events//DE
CALSCALE:GREGORIAN
METHOD:PUBLISH
X-WR-CALNAME:Berliner Rugby Club – U10
X-WR-TIMEZONE:Europe/Berlin
BEGIN:VEVENT
UID:169@www.berliner-rugby-club.de
DTSTAMP:20260421T135353Z
DTSTART;VALUE=DATE:20260410
DTEND;VALUE=DATE:20260413
SUMMARY:Prague Youth Rugby Festival
LOCATION:Prag\, Tschechien
URL:https://www.berliner-rugby-club.de/events/prague-youth-rugby-festival/
END:VEVENT
BEGIN:VEVENT
UID:183@www.berliner-rugby-club.de
DTSTAMP:20260421T135353Z
DTSTART;VALUE=DATE:20260501
DTEND;VALUE=DATE:20260504
SUMMARY:Gonder Cup 2026
LOCATION:SSC 1880\, Feldgerichtstr. 29 in FFM
URL:https://www.berliner-rugby-club.de/events/gonder-turnier/
END:VEVENT
BEGIN:VEVENT
UID:176@www.berliner-rugby-club.de
DTSTAMP:20260421T135353Z
DTSTART;VALUE=DATE:20260523
DTEND;VALUE=DATE:20260525
SUMMARY:Sanssoucci Pokal
LOCATION:Rugby Potsdam\, am Neuen Palais in Potsdam
URL:https://www.berliner-rugby-club.de/events/sanssoucci-turnier/
END:VEVENT
BEGIN:VEVENT
UID:184@www.berliner-rugby-club.de
DTSTAMP:20260421T135353Z
DTSTART;VALUE=DATE:20260606
DTEND;VALUE=DATE:20260608
SUMMARY:Störtebeker Cup
LOCATION:FC St. Pauli
URL:https://www.berliner-rugby-club.de/events/stoertebecker-cup/
END:VEVENT
BEGIN:VEVENT
UID:186@www.berliner-rugby-club.de
DTSTAMP:20260421T135353Z
DTSTART;VALUE=DATE:20260829
DTEND;VALUE=DATE:20260830
SUMMARY:100 Jahre BRC &#8211\; Unser Sommerfest
LOCATION:BRC Rugbyplatz (Heimspielstätte)\, Sachtlebenstraße 36\, 14165 Berlin
URL:https://www.berliner-rugby-club.de/events/100-jahre-brc-unser-sommerfest/
END:VEVENT
BEGIN:VEVENT
UID:185@www.berliner-rugby-club.de
DTSTAMP:20260421T135353Z
DTSTART;VALUE=DATE:20261003
DTEND;VALUE=DATE:20261005
SUMMARY:Fritz Feyerherm Turnier 2026
DESCRIPTION:13. Gedenkturnier zu Ehren unseres langjährigen Vereinspräsidenten Fritz Feyerherm
LOCATION:Jungfernheide
URL:https://www.berliner-rugby-club.de/events/fritz-feyerherm-turnier-2026/
END:VEVENT
END:VCALENDAR
