BEGIN:VCALENDAR
VERSION:2.0
PRODID:-//BRC//Events//DE
CALSCALE:GREGORIAN
METHOD:PUBLISH
X-WR-CALNAME:Berliner Rugby Club – U18
X-WR-TIMEZONE:Europe/Berlin
BEGIN:VEVENT
UID:191@www.berliner-rugby-club.de
DTSTAMP:20260421T154933Z
DTSTART:20260418T130000
DTEND:20260418T143000
SUMMARY:[ABGESAGT] SG Berlin vs VfR Döhren
DESCRIPTION:Leider fällt das Spiel aus.
LOCATION:Forckenbeckstraße 20
URL:https://www.berliner-rugby-club.de/events/sg-berlin-vs-vfr-doehren/
END:VEVENT
BEGIN:VEVENT
UID:178@www.berliner-rugby-club.de
DTSTAMP:20260421T154933Z
DTSTART;VALUE=DATE:20260606
DTEND;VALUE=DATE:20260608
SUMMARY:DM U16 &amp\; U18 LV 7er
LOCATION:beim RK03
URL:https://www.berliner-rugby-club.de/events/dm-u16-u18-lv-7er/
END:VEVENT
BEGIN:VEVENT
UID:186@www.berliner-rugby-club.de
DTSTAMP:20260421T154933Z
DTSTART;VALUE=DATE:20260829
DTEND;VALUE=DATE:20260830
SUMMARY:100 Jahre BRC &#8211\; Unser Sommerfest
LOCATION:BRC Rugbyplatz (Heimspielstätte)\, Sachtlebenstraße 36\, 14165 Berlin
URL:https://www.berliner-rugby-club.de/events/100-jahre-brc-unser-sommerfest/
END:VEVENT
END:VCALENDAR
